BEGIN:VCALENDAR
VERSION:2.0
PRODID:-//Floridiana Tênis Clube - ECPv5.4.0//NONSGML v1.0//EN
CALSCALE:GREGORIAN
METHOD:PUBLISH
X-WR-CALNAME:Floridiana Tênis Clube
X-ORIGINAL-URL:https://www.floridiana.com.br
X-WR-CALDESC:Eventos para Floridiana Tênis Clube
BEGIN:VTIMEZONE
TZID:America/Sao_Paulo
BEGIN:STANDARD
TZOFFSETFROM:-0300
TZOFFSETTO:-0300
TZNAME:-03
DTSTART:20220101T000000
END:STANDARD
END:VTIMEZONE
BEGIN:VEVENT
DTSTART;TZID=America/Sao_Paulo:20220110T080000
DTEND;TZID=America/Sao_Paulo:20220114T170000
DTSTAMP:20260422T090423
CREATED:20211217T203153Z
LAST-MODIFIED:20211217T203153Z
UID:23593-1641801600-1642179600@www.floridiana.com.br
SUMMARY:SACODE
DESCRIPTION:Na semana do dia 10 a 14 de janeiro 2022\, o FLORIDIANA irá realizar uma semana de muitas atividades de recreação\, esporte e lazer!!! É o SACODE direcionado para as crianças de 6 a 11 anos. Não perca tempo e faça já a sua inscrição na secretaria do clube!!! Limite para inscrição dia 05/01.
URL:https://www.floridiana.com.br/evento/sacode/
ATTACH;FMTTYPE=image/jpeg:https://www.floridiana.com.br/wp-content/uploads/2021/12/WhatsApp-Image-2021-12-09-at-18.11.30.jpeg
END:VEVENT
END:VCALENDAR