BEGIN:VCALENDAR
VERSION:2.0
PRODID:-//Floridiana Tênis Clube - ECPv5.4.0//NONSGML v1.0//EN
CALSCALE:GREGORIAN
METHOD:PUBLISH
X-WR-CALNAME:Floridiana Tênis Clube
X-ORIGINAL-URL:https://www.floridiana.com.br
X-WR-CALDESC:Eventos para Floridiana Tênis Clube
BEGIN:VTIMEZONE
TZID:America/Sao_Paulo
BEGIN:STANDARD
TZOFFSETFROM:-0300
TZOFFSETTO:-0300
TZNAME:-03
DTSTART:20220101T000000
END:STANDARD
END:VTIMEZONE
BEGIN:VEVENT
DTSTART;TZID=America/Sao_Paulo:20220409T083000
DTEND;TZID=America/Sao_Paulo:20220409T103000
DTSTAMP:20260421T145648
CREATED:20220328T195719Z
LAST-MODIFIED:20220328T195719Z
UID:23752-1649493000-1649500200@www.floridiana.com.br
SUMMARY:Festival Infatil Interno de Tênis
DESCRIPTION:Inscrições com professor Gabriel até dia 01/04
URL:https://www.floridiana.com.br/evento/festival-infatil-interno-de-tenis/
END:VEVENT
END:VCALENDAR