BEGIN:VCALENDAR
VERSION:2.0
PRODID:-//Floridiana Tênis Clube - ECPv5.4.0//NONSGML v1.0//EN
CALSCALE:GREGORIAN
METHOD:PUBLISH
X-WR-CALNAME:Floridiana Tênis Clube
X-ORIGINAL-URL:https://www.floridiana.com.br
X-WR-CALDESC:Eventos para Floridiana Tênis Clube
BEGIN:VTIMEZONE
TZID:America/Sao_Paulo
BEGIN:STANDARD
TZOFFSETFROM:-0200
TZOFFSETTO:-0300
TZNAME:-03
DTSTART:20140216T020000
END:STANDARD
BEGIN:DAYLIGHT
TZOFFSETFROM:-0300
TZOFFSETTO:-0200
TZNAME:-02
DTSTART:20141019T030000
END:DAYLIGHT
END:VTIMEZONE
BEGIN:VEVENT
DTSTART;TZID=America/Sao_Paulo:20140227T080000
DTEND;TZID=America/Sao_Paulo:20140227T170000
DTSTAMP:20260422T131125
CREATED:20140227T213324Z
LAST-MODIFIED:20140227T214018Z
UID:979-1393488000-1393520400@www.floridiana.com.br
SUMMARY:Campeonato de Futebol Adulto
DESCRIPTION:Início do VIII Campeonato Floridiana de Futebol Adulto 2014.
URL:https://www.floridiana.com.br/evento/campeonato-de-futebol-adulto/
END:VEVENT
END:VCALENDAR