BEGIN:VCALENDAR
VERSION:2.0
PRODID:-//Floridiana Tênis Clube - ECPv5.4.0//NONSGML v1.0//EN
CALSCALE:GREGORIAN
METHOD:PUBLISH
X-WR-CALNAME:Floridiana Tênis Clube
X-ORIGINAL-URL:https://www.floridiana.com.br
X-WR-CALDESC:Eventos para Floridiana Tênis Clube
BEGIN:VTIMEZONE
TZID:America/Sao_Paulo
BEGIN:STANDARD
TZOFFSETFROM:-0300
TZOFFSETTO:-0300
TZNAME:-03
DTSTART:20220101T000000
END:STANDARD
END:VTIMEZONE
BEGIN:VEVENT
DTSTART;TZID=America/Sao_Paulo:20220402T193000
DTEND;TZID=America/Sao_Paulo:20220402T220000
DTSTAMP:20260421T201726
CREATED:20220401T195403Z
LAST-MODIFIED:20220401T195403Z
UID:23821-1648927800-1648936800@www.floridiana.com.br
SUMMARY:Bar Florida - Grupo Batukaí
DESCRIPTION:
URL:https://www.floridiana.com.br/evento/bar-florida-grupo-batukai/
LOCATION:Bar Florida – Piscina
END:VEVENT
END:VCALENDAR