BEGIN:VCALENDAR
VERSION:2.0
PRODID:-//Floridiana Tênis Clube - ECPv5.4.0//NONSGML v1.0//EN
CALSCALE:GREGORIAN
METHOD:PUBLISH
X-WR-CALNAME:Floridiana Tênis Clube
X-ORIGINAL-URL:https://www.floridiana.com.br
X-WR-CALDESC:Eventos para Floridiana Tênis Clube
BEGIN:VTIMEZONE
TZID:America/Sao_Paulo
BEGIN:STANDARD
TZOFFSETFROM:-0300
TZOFFSETTO:-0300
TZNAME:-03
DTSTART:20240101T000000
END:STANDARD
END:VTIMEZONE
BEGIN:VEVENT
DTSTART;TZID=America/Sao_Paulo:20241012T090000
DTEND;TZID=America/Sao_Paulo:20241012T170000
DTSTAMP:20260425T091626
CREATED:20241008T143458Z
LAST-MODIFIED:20241008T143458Z
UID:30052-1728723600-1728752400@www.floridiana.com.br
SUMMARY:Agita 2024
DESCRIPTION:
URL:https://www.floridiana.com.br/evento/agita-2024/
END:VEVENT
END:VCALENDAR